BEGIN:VCALENDAR
VERSION:2.0
PRODID:icalendar-ruby
CALSCALE:GREGORIAN
BEGIN:VEVENT
DTSTAMP:20260419T140731Z
UID:98cd289d-f2af-494f-8719-c9ecc83c20d9
DTSTART;VALUE=DATE:20260318
DESCRIPTION:Property ID# 604262\, Time: 2:00PM
SUMMARY:Auction for 1 Kokopu Street
END:VEVENT
END:VCALENDAR
