BEGIN:VCALENDAR
VERSION:2.0
PRODID:icalendar-ruby
CALSCALE:GREGORIAN
BEGIN:VEVENT
DTSTAMP:20260422T135404Z
UID:e45db53b-23d1-4889-a990-29e8cf55d98c
DTSTART;VALUE=DATE:20260305
DESCRIPTION:Property ID# 603516\, Time: 3:00PM
SUMMARY:Auction for 
END:VEVENT
END:VCALENDAR
