BEGIN:VCALENDAR
VERSION:2.0
PRODID:icalendar-ruby
CALSCALE:GREGORIAN
BEGIN:VEVENT
DTSTAMP:20260420T203237Z
UID:23953cee-638f-436c-a6ad-f777609521f2
DTSTART;VALUE=DATE:20260226
DESCRIPTION:Property ID# 603305\, Locatoin: Harcourts Grenadier 98 Moorhous
 e Avenue\, Time: 11:00AM
SUMMARY:Auction for 40 Studholme Street
END:VEVENT
END:VCALENDAR
