BEGIN:VCALENDAR
VERSION:2.0
PRODID:icalendar-ruby
CALSCALE:GREGORIAN
BEGIN:VEVENT
DTSTAMP:20260420T163314Z
UID:dae246a4-8854-4fcf-85f6-a2b6795724b2
DTSTART;VALUE=DATE:20260226
DESCRIPTION:Property ID# 602920\, Locatoin: 98 Moorhouse Ave\, Time: 11:00A
 M
SUMMARY:Auction for 
END:VEVENT
END:VCALENDAR
