BEGIN:VCALENDAR
VERSION:2.0
PRODID:icalendar-ruby
CALSCALE:GREGORIAN
BEGIN:VEVENT
DTSTAMP:20260422T140223Z
UID:c76795d7-46ce-412a-9d79-71619598b422
DTSTART;VALUE=DATE:20251211
DESCRIPTION:Property ID# 600286\, Locatoin: 98 Moorhouse Avenue Christchurc
 h\, Time: 11:00AM
SUMMARY:Auction for 
END:VEVENT
END:VCALENDAR
