BEGIN:VCALENDAR
VERSION:2.0
PRODID:icalendar-ruby
CALSCALE:GREGORIAN
BEGIN:VEVENT
DTSTAMP:20260420T162046Z
UID:834dccbb-1c9c-4fdc-938b-10b4f90fc887
DTSTART;VALUE=DATE:20251002
DESCRIPTION:Property ID# 597210\, Locatoin: Harcourts Grenadier 98 Moorhous
 e Avenue\, Time: 11:00AM
SUMMARY:Auction for 
END:VEVENT
END:VCALENDAR
