BEGIN:VCALENDAR
VERSION:2.0
PRODID:icalendar-ruby
CALSCALE:GREGORIAN
BEGIN:VEVENT
DTSTAMP:20260422T095727Z
UID:1bcd08f3-aa97-4fcf-b4ef-a34a7ef3e6ff
DTSTART;VALUE=DATE:20251011
DESCRIPTION:Property ID# 596949\, Locatoin: Onsite (unless sold prior)\, Ti
 me: 12:00PM
SUMMARY:Auction for 
END:VEVENT
END:VCALENDAR
