BEGIN:VCALENDAR
VERSION:2.0
PRODID:icalendar-ruby
CALSCALE:GREGORIAN
BEGIN:VEVENT
DTSTAMP:20260419T134313Z
UID:c0277c4b-6f4c-4ae7-9a15-fdb5680e9787
DTSTART;VALUE=DATE:20250819
DESCRIPTION:Property ID# 594996\, Locatoin: Onsite (unless sold prior)\, Ti
 me: 4:00PM
SUMMARY:Auction for 
END:VEVENT
END:VCALENDAR
