BEGIN:VCALENDAR
VERSION:2.0
PRODID:icalendar-ruby
CALSCALE:GREGORIAN
BEGIN:VEVENT
DTSTAMP:20260419T221322Z
UID:4870c8bc-2241-4234-8cf5-1506e63422aa
DTSTART;VALUE=DATE:20250730
DESCRIPTION:Property ID# 594739\, Time: 12:00PM
SUMMARY:Auction for 
END:VEVENT
END:VCALENDAR
