BEGIN:VCALENDAR
VERSION:2.0
PRODID:icalendar-ruby
CALSCALE:GREGORIAN
BEGIN:VEVENT
DTSTAMP:20260422T140238Z
UID:33819799-84b0-4ce7-a221-1cbf5da33bd5
DTSTART;VALUE=DATE:20250501
DESCRIPTION:Property ID# 590598\, Locatoin: 98 Moorhouse Avenue Christchurc
 h\, Time: 11:00AM
SUMMARY:Auction for 
END:VEVENT
END:VCALENDAR
