BEGIN:VCALENDAR
VERSION:2.0
PRODID:icalendar-ruby
CALSCALE:GREGORIAN
BEGIN:VEVENT
DTSTAMP:20260419T220537Z
UID:97fe3c05-7d2d-4bb7-bc2d-63fa7d2e86b2
DTSTART;VALUE=DATE:20250410
DESCRIPTION:Property ID# 590342\, Time: 4:00PM
SUMMARY:Auction for 
END:VEVENT
END:VCALENDAR
