BEGIN:VCALENDAR
VERSION:2.0
PRODID:icalendar-ruby
CALSCALE:GREGORIAN
BEGIN:VEVENT
DTSTAMP:20210121T205149Z
UID:0c2b25ef-dc0b-415c-8f1b-8ca82fa7ab91
DTSTART;TZID=Pacific/Auckland:20210123T113000
DTEND;TZID=Pacific/Auckland:20210123T121500
DESCRIPTION:Property ID# 500043
SUMMARY:Openhome for 7 Elmtree Close
END:VEVENT
END:VCALENDAR
