BEGIN:VCALENDAR
VERSION:2.0
PRODID:icalendar-ruby
CALSCALE:GREGORIAN
BEGIN:VEVENT
DTSTAMP:20210121T205157Z
UID:6cec4125-5ab2-4a60-8436-3efae46a0835
DTSTART;TZID=Pacific/Auckland:20210124T150000
DTEND;TZID=Pacific/Auckland:20210124T153000
DESCRIPTION:Property ID# 499950
SUMMARY:Openhome for 7 Fleur Lane
END:VEVENT
END:VCALENDAR
