BEGIN:VCALENDAR
VERSION:2.0
PRODID:icalendar-ruby
CALSCALE:GREGORIAN
BEGIN:VEVENT
DTSTAMP:20210121T210245Z
UID:cb8ddf90-b366-4b96-8079-f4f017fb36cc
DTSTART;TZID=Pacific/Auckland:20210123T131500
DTEND;TZID=Pacific/Auckland:20210123T140000
DESCRIPTION:Property ID# 498551
SUMMARY:Openhome for 22B Highfield Place
END:VEVENT
END:VCALENDAR
