BEGIN:VCALENDAR
VERSION:2.0
PRODID:icalendar-ruby
CALSCALE:GREGORIAN
BEGIN:VEVENT
DTSTAMP:20210121T205215Z
UID:01fa77a2-035b-4553-a0a0-e91b97f5aa3a
DTSTART;TZID=Pacific/Auckland:20210123T130000
DTEND;TZID=Pacific/Auckland:20210123T140000
DESCRIPTION:Property ID# 499891
SUMMARY:Openhome for 1/435 Bower Avenue
END:VEVENT
END:VCALENDAR
