BEGIN:VCALENDAR
VERSION:2.0
PRODID:icalendar-ruby
CALSCALE:GREGORIAN
BEGIN:VEVENT
DTSTAMP:20210121T205229Z
UID:b9ad6569-19e2-4a23-be26-85088851f60a
DTSTART;TZID=Pacific/Auckland:20210121T120000
DTEND;TZID=Pacific/Auckland:20210121T124500
DESCRIPTION:Property ID# 499732
SUMMARY:Openhome for 153 Petrie Street
END:VEVENT
END:VCALENDAR
