BEGIN:VCALENDAR
VERSION:2.0
PRODID:icalendar-ruby
CALSCALE:GREGORIAN
BEGIN:VEVENT
DTSTAMP:20210121T205221Z
UID:c44d2fbe-623e-4923-8afd-0e6cc950638e
DTSTART;TZID=Pacific/Auckland:20210124T110000
DTEND;TZID=Pacific/Auckland:20210124T120000
DESCRIPTION:Property ID# 499492
SUMMARY:Openhome for 307 New Brighton Road
END:VEVENT
END:VCALENDAR
