BEGIN:VCALENDAR
VERSION:2.0
PRODID:icalendar-ruby
CALSCALE:GREGORIAN
BEGIN:VEVENT
DTSTAMP:20210121T210238Z
UID:c4dd96b3-972b-4509-a254-36ce2b4e4e90
DTSTART;TZID=Pacific/Auckland:20210124T130000
DTEND;TZID=Pacific/Auckland:20210124T133000
DESCRIPTION:Property ID# 497367
SUMMARY:Openhome for 1/443 Hereford Street
END:VEVENT
END:VCALENDAR
