BEGIN:VCALENDAR
VERSION:2.0
PRODID:icalendar-ruby
CALSCALE:GREGORIAN
BEGIN:VEVENT
DTSTAMP:20210121T210229Z
UID:d7519cc4-eb58-4841-aba2-4dabd5f2fe97
DTSTART;TZID=Pacific/Auckland:20210124T120000
DTEND;TZID=Pacific/Auckland:20210124T123000
DESCRIPTION:Property ID# 495645
SUMMARY:Openhome for 3/69 Mandeville St
END:VEVENT
END:VCALENDAR
