BEGIN:VCALENDAR
VERSION:2.0
PRODID:icalendar-ruby
CALSCALE:GREGORIAN
BEGIN:VEVENT
DTSTAMP:20210121T205151Z
UID:33f8656c-e53d-4218-ae4d-daaf0cf98711
DTSTART;VALUE=DATE:20210211
DESCRIPTION:Property ID# 500043\, Time: 10:00AM
SUMMARY:Auction for 7 Elmtree Close
END:VEVENT
END:VCALENDAR
