BEGIN:VCALENDAR
VERSION:2.0
PRODID:icalendar-ruby
CALSCALE:GREGORIAN
BEGIN:VEVENT
DTSTAMP:20210121T205158Z
UID:523422b0-9041-405e-a6f7-b59a327eaf57
DTSTART;VALUE=DATE:20210210
DESCRIPTION:Property ID# 499950\, Time: 10:00AM
SUMMARY:Auction for 7 Fleur Lane
END:VEVENT
END:VCALENDAR
