BEGIN:VCALENDAR
VERSION:2.0
PRODID:icalendar-ruby
CALSCALE:GREGORIAN
BEGIN:VEVENT
DTSTAMP:20210121T205231Z
UID:d3ce8370-e036-4371-98b3-34108ded1244
DTSTART;VALUE=DATE:20210203
DESCRIPTION:Property ID# 499732\, Locatoin: Holmwood Auction Rooms\, Ground
  Floor\, 397 - 399 Ilam Road\, Ilam (unless sold prior)\, Time: 10:00AM
SUMMARY:Auction for 153 Petrie Street
END:VEVENT
END:VCALENDAR
