BEGIN:VCALENDAR
VERSION:2.0
PRODID:icalendar-ruby
CALSCALE:GREGORIAN
BEGIN:VEVENT
DTSTAMP:20210121T205226Z
UID:99f4f267-9167-45bd-a5d9-e5408252b53a
DTSTART;VALUE=DATE:20210211
DESCRIPTION:Property ID# 499568\, Time: 10:00AM
SUMMARY:Auction for 27 Mataroa Street
END:VEVENT
END:VCALENDAR
