BEGIN:VCALENDAR
VERSION:2.0
PRODID:icalendar-ruby
CALSCALE:GREGORIAN
BEGIN:VEVENT
DTSTAMP:20210121T205210Z
UID:2ac0356b-35a5-4719-83bd-f7270f4c29e9
DTSTART;VALUE=DATE:20210204
DESCRIPTION:Property ID# 499320\, Time: 4:00PM
SUMMARY:Auction for 34 Vogel St
END:VEVENT
END:VCALENDAR
