BEGIN:VCALENDAR
VERSION:2.0
PRODID:icalendar-ruby
CALSCALE:GREGORIAN
BEGIN:VEVENT
DTSTAMP:20210121T210249Z
UID:832c9a74-b46b-4066-9046-7c7e115cfe2a
DTSTART;VALUE=DATE:20210118
DESCRIPTION:Property ID# 499166\, Locatoin: Holmwood Auction Rooms\, Ground
  Floor\, 397 - 399 Ilam Road (unless sold prior)\, Time: 4:00AM
SUMMARY:Auction for 
END:VEVENT
END:VCALENDAR
