BEGIN:VCALENDAR
VERSION:2.0
PRODID:icalendar-ruby
CALSCALE:GREGORIAN
BEGIN:VEVENT
DTSTAMP:20210121T205240Z
UID:208e3f25-da80-41e1-a9f7-965808b5a684
DTSTART;VALUE=DATE:20210121
DESCRIPTION:Property ID# 498934\, Locatoin: In rooms\, Time: 12:00PM
SUMMARY:Auction for 16 Kohunga Crescent
END:VEVENT
END:VCALENDAR
