BEGIN:VCALENDAR
VERSION:2.0
PRODID:icalendar-ruby
CALSCALE:GREGORIAN
BEGIN:VEVENT
DTSTAMP:20210121T210247Z
UID:5b40e5d4-e810-4811-9ba8-a5dc376c6ff8
DTSTART;VALUE=DATE:20210203
DESCRIPTION:Property ID# 498551\, Locatoin: Holmwood Auction Rooms\, Ground
  Floor\, 397 - 399 Ilam Road\, Ilam (unless sold prior)\, Time: 10:00AM
SUMMARY:Auction for 22B Highfield Place
END:VEVENT
END:VCALENDAR
