BEGIN:VCALENDAR
VERSION:2.0
PRODID:icalendar-ruby
CALSCALE:GREGORIAN
BEGIN:VEVENT
DTSTAMP:20210120T052255Z
UID:ae22f0ba-5aff-4a66-b8b1-99ab828f02e8
DTSTART;VALUE=DATE:20201217
DESCRIPTION:Property ID# 496889\, Time: 12:00PM
SUMMARY:Auction for 
END:VEVENT
END:VCALENDAR
