BEGIN:VCALENDAR
VERSION:2.0
PRODID:icalendar-ruby
CALSCALE:GREGORIAN
BEGIN:VEVENT
DTSTAMP:20210121T210254Z
UID:a6fffc5b-8ad4-41b7-ab3a-e372cafee09b
DTSTART;VALUE=DATE:20201126
DESCRIPTION:Property ID# 496311\, Locatoin: Holmwood Auction Rooms\, Ground
  Floor\, 397 - 399 Ilam Road\, Time: 12:00PM
SUMMARY:Auction for 
END:VEVENT
END:VCALENDAR
