BEGIN:VCALENDAR
VERSION:2.0
PRODID:icalendar-ruby
CALSCALE:GREGORIAN
BEGIN:VEVENT
DTSTAMP:20210120T052253Z
UID:ee9ea393-16cd-43d9-90d2-099474717e19
DTSTART;VALUE=DATE:20201210
DESCRIPTION:Property ID# 496013\, Time: 12:00PM
SUMMARY:Auction for 
END:VEVENT
END:VCALENDAR
