BEGIN:VCALENDAR
VERSION:2.0
PRODID:icalendar-ruby
CALSCALE:GREGORIAN
BEGIN:VEVENT
DTSTAMP:20210121T210224Z
UID:6f6a979c-3224-4465-abc0-1873ad015eb0
DTSTART;VALUE=DATE:20201209
DESCRIPTION:Property ID# 495620\, Locatoin: Holmwood Auction Room\, 399 Ila
 m Rd\, Time: 10:00AM
SUMMARY:Auction for 
END:VEVENT
END:VCALENDAR
