BEGIN:VCALENDAR
VERSION:2.0
PRODID:icalendar-ruby
CALSCALE:GREGORIAN
BEGIN:VEVENT
DTSTAMP:20210121T210222Z
UID:c92f86c9-5677-4a45-9a4a-4d692f3699e4
DTSTART;VALUE=DATE:20201125
DESCRIPTION:Property ID# 494469\, Locatoin: Holmwood Auction Room\, 399 Ila
 m Rd\, Time: 10:00AM
SUMMARY:Auction for 24 Lonsdale Street
END:VEVENT
END:VCALENDAR
