BEGIN:VCALENDAR
VERSION:2.0
PRODID:icalendar-ruby
CALSCALE:GREGORIAN
BEGIN:VEVENT
DTSTAMP:20210120T052257Z
UID:46926fb8-fc90-4d9e-a90c-fe30331a61e4
DTSTART;VALUE=DATE:20201119
DESCRIPTION:Property ID# 494071\, Time: 12:00PM
SUMMARY:Auction for 
END:VEVENT
END:VCALENDAR
