BEGIN:VCALENDAR
VERSION:2.0
PRODID:icalendar-ruby
CALSCALE:GREGORIAN
BEGIN:VEVENT
DTSTAMP:20210121T210307Z
UID:74024804-fd16-4258-8305-a50819494e4c
DTSTART;VALUE=DATE:20201125
DESCRIPTION:Property ID# 493538\, Time: 2:00PM
SUMMARY:Auction for 
END:VEVENT
END:VCALENDAR
