BEGIN:VCALENDAR
VERSION:2.0
PRODID:icalendar-ruby
CALSCALE:GREGORIAN
BEGIN:VEVENT
DTSTAMP:20210121T210257Z
UID:4b0c00d5-0f80-41cd-8869-2def32773546
DTSTART;VALUE=DATE:20201111
DESCRIPTION:Property ID# 493299\, Locatoin: Harcourts Holmwood\, 397 - 399 
 Ilam Road\, Ilam (unless sold prior)\, Time: 10:00AM
SUMMARY:Auction for 
END:VEVENT
END:VCALENDAR
