BEGIN:VCALENDAR
VERSION:2.0
PRODID:icalendar-ruby
CALSCALE:GREGORIAN
BEGIN:VEVENT
DTSTAMP:20210121T210230Z
UID:0dc95e3c-8e77-4699-b2b1-adbae297a5f7
DTSTART;VALUE=DATE:20201105
DESCRIPTION:Property ID# 491706\, Time: 10:00AM
SUMMARY:Auction for 
END:VEVENT
END:VCALENDAR
