BEGIN:VCALENDAR
VERSION:2.0
PRODID:icalendar-ruby
CALSCALE:GREGORIAN
BEGIN:VEVENT
DTSTAMP:20210120T052302Z
UID:fbbc44d5-dbb9-4323-8c28-4cf8df091b39
DTSTART;VALUE=DATE:20201008
DESCRIPTION:Property ID# 489848\, Time: 12:00PM
SUMMARY:Auction for 
END:VEVENT
END:VCALENDAR
