BEGIN:VCALENDAR
VERSION:2.0
PRODID:icalendar-ruby
CALSCALE:GREGORIAN
BEGIN:VEVENT
DTSTAMP:20210121T210316Z
UID:f3a125cb-11a3-47af-a442-53d9920526ec
DTSTART;VALUE=DATE:20200914
DESCRIPTION:Property ID# 487538\, Locatoin: In rooms\, Time: 12:00PM
SUMMARY:Auction for 
END:VEVENT
END:VCALENDAR
