BEGIN:VCALENDAR
VERSION:2.0
PRODID:icalendar-ruby
CALSCALE:GREGORIAN
BEGIN:VEVENT
DTSTAMP:20210121T210232Z
UID:54210fbe-5ea5-451f-8ddc-46adc9700141
DTSTART;VALUE=DATE:20200910
DESCRIPTION:Property ID# 487537\, Time: 10:00AM
SUMMARY:Auction for 
END:VEVENT
END:VCALENDAR
