BEGIN:VCALENDAR
VERSION:2.0
PRODID:icalendar-ruby
CALSCALE:GREGORIAN
BEGIN:VEVENT
DTSTAMP:20210120T052308Z
UID:cadd6cb5-a000-4578-b1b2-64047c79432d
DTSTART;VALUE=DATE:20200827
DESCRIPTION:Property ID# 486527\, Time: 12:00PM
SUMMARY:Auction for 
END:VEVENT
END:VCALENDAR
