BEGIN:VCALENDAR
VERSION:2.0
PRODID:icalendar-ruby
CALSCALE:GREGORIAN
BEGIN:VEVENT
DTSTAMP:20210121T210259Z
UID:6d7a8d11-603f-46ad-a1e9-ad77b4a90693
DTSTART;VALUE=DATE:20200729
DESCRIPTION:Property ID# 484721\, Locatoin: Harcourts Holmwood\, 397 - 399 
 Ilam Road\, Ilam (unless sold prior)\, Time: 10:00AM
SUMMARY:Auction for 
END:VEVENT
END:VCALENDAR
