BEGIN:VCALENDAR
VERSION:2.0
PRODID:icalendar-ruby
CALSCALE:GREGORIAN
BEGIN:VEVENT
DTSTAMP:20210121T210218Z
UID:f1971395-d2c5-4dcf-849c-75594cd9770d
DTSTART;VALUE=DATE:20200716
DESCRIPTION:Property ID# 483325\, Time: 10:00AM
SUMMARY:Auction for 
END:VEVENT
END:VCALENDAR
