BEGIN:VCALENDAR
VERSION:2.0
PRODID:icalendar-ruby
CALSCALE:GREGORIAN
BEGIN:VEVENT
DTSTAMP:20210120T052352Z
UID:50644241-c93f-4f46-b1b9-f968d5824bd6
DTSTART;VALUE=DATE:20200709
DESCRIPTION:Property ID# 483157\, Locatoin: Harcourts Gold Papanui\, 471 Pa
 panui Road\, Christchurch.\, Time: 10:00AM
SUMMARY:Auction for 
END:VEVENT
END:VCALENDAR
