BEGIN:VCALENDAR
VERSION:2.0
PRODID:icalendar-ruby
CALSCALE:GREGORIAN
BEGIN:VEVENT
DTSTAMP:20210120T052313Z
UID:a5476542-d2d2-4655-9c25-1aa1e7ca7775
DTSTART;VALUE=DATE:20200611
DESCRIPTION:Property ID# 480991\, Time: 12:00PM
SUMMARY:Auction for 
END:VEVENT
END:VCALENDAR
