BEGIN:VCALENDAR
VERSION:2.0
PRODID:icalendar-ruby
CALSCALE:GREGORIAN
BEGIN:VEVENT
DTSTAMP:20210120T052317Z
UID:ec7cf828-3bef-4f80-ac82-8876d5f67d10
DTSTART;VALUE=DATE:20200521
DESCRIPTION:Property ID# 477272\, Time: 12:00PM
SUMMARY:Auction for 
END:VEVENT
END:VCALENDAR
