BEGIN:VCALENDAR
VERSION:2.0
PRODID:icalendar-ruby
CALSCALE:GREGORIAN
BEGIN:VEVENT
DTSTAMP:20210121T210233Z
UID:80077b9e-b90d-4494-8d97-ee4c9d9ff4ff
DTSTART;VALUE=DATE:20200402
DESCRIPTION:Property ID# 471932\, Time: 10:00AM
SUMMARY:Auction for 
END:VEVENT
END:VCALENDAR
