BEGIN:VCALENDAR
VERSION:2.0
PRODID:icalendar-ruby
CALSCALE:GREGORIAN
BEGIN:VEVENT
DTSTAMP:20210121T210310Z
UID:d167fa23-eaa4-4962-b8fa-ab00c7298981
DTSTART;VALUE=DATE:20200219
DESCRIPTION:Property ID# 471470\, Time: 2:00PM
SUMMARY:Auction for 
END:VEVENT
END:VCALENDAR
