BEGIN:VCALENDAR
VERSION:2.0
PRODID:icalendar-ruby
CALSCALE:GREGORIAN
BEGIN:VEVENT
DTSTAMP:20210121T210324Z
UID:38ffab8f-a032-40bf-aeb8-8782d800943a
DTSTART;VALUE=DATE:20200214
DESCRIPTION:Property ID# 470388\, Locatoin: Ray White Auction Rooms 3rd Flo
 or 76 Hereford Street\, Christchurch Central (unless sold prior)\, Time: 1
 1:00AM
SUMMARY:Auction for 
END:VEVENT
END:VCALENDAR
