BEGIN:VCALENDAR
VERSION:2.0
PRODID:icalendar-ruby
CALSCALE:GREGORIAN
BEGIN:VEVENT
DTSTAMP:20210120T052403Z
UID:5bcc6d7b-0b7b-406d-a422-78695d01c7ae
DTSTART;VALUE=DATE:20200205
DESCRIPTION:Property ID# 468888\, Locatoin: Harcourts Gold Papanui\, 471 Pa
 panui Road\, Christchurch. (unless sold prior)\, Time: 10:00AM
SUMMARY:Auction for 
END:VEVENT
END:VCALENDAR
