BEGIN:VCALENDAR
VERSION:2.0
PRODID:icalendar-ruby
CALSCALE:GREGORIAN
BEGIN:VEVENT
DTSTAMP:20210121T210235Z
UID:a4007c57-f71a-42f7-a377-ca77f48c0a8e
DTSTART;VALUE=DATE:20191219
DESCRIPTION:Property ID# 468312\, Time: 10:00AM
SUMMARY:Auction for 
END:VEVENT
END:VCALENDAR
